BEGIN:VCALENDAR
VERSION:2.0
PRODID:-//Českomoravská sáňkařská asociace - ECPv6.15.13//NONSGML v1.0//EN
CALSCALE:GREGORIAN
METHOD:PUBLISH
X-WR-CALNAME:Českomoravská sáňkařská asociace
X-ORIGINAL-URL:https://sane.cz
X-WR-CALDESC:Akce na Českomoravská sáňkařská asociace
REFRESH-INTERVAL;VALUE=DURATION:PT1H
X-Robots-Tag:noindex
X-PUBLISHED-TTL:PT1H
BEGIN:VTIMEZONE
TZID:Europe/Prague
BEGIN:DAYLIGHT
TZOFFSETFROM:+0100
TZOFFSETTO:+0200
TZNAME:CEST
DTSTART:20210328T010000
END:DAYLIGHT
BEGIN:STANDARD
TZOFFSETFROM:+0200
TZOFFSETTO:+0100
TZNAME:CET
DTSTART:20211031T010000
END:STANDARD
BEGIN:DAYLIGHT
TZOFFSETFROM:+0100
TZOFFSETTO:+0200
TZNAME:CEST
DTSTART:20220327T010000
END:DAYLIGHT
BEGIN:STANDARD
TZOFFSETFROM:+0200
TZOFFSETTO:+0100
TZNAME:CET
DTSTART:20221030T010000
END:STANDARD
BEGIN:DAYLIGHT
TZOFFSETFROM:+0100
TZOFFSETTO:+0200
TZNAME:CEST
DTSTART:20230326T010000
END:DAYLIGHT
BEGIN:STANDARD
TZOFFSETFROM:+0200
TZOFFSETTO:+0100
TZNAME:CET
DTSTART:20231029T010000
END:STANDARD
BEGIN:DAYLIGHT
TZOFFSETFROM:+0100
TZOFFSETTO:+0200
TZNAME:CEST
DTSTART:20240331T010000
END:DAYLIGHT
BEGIN:STANDARD
TZOFFSETFROM:+0200
TZOFFSETTO:+0100
TZNAME:CET
DTSTART:20241027T010000
END:STANDARD
BEGIN:DAYLIGHT
TZOFFSETFROM:+0100
TZOFFSETTO:+0200
TZNAME:CEST
DTSTART:20250330T010000
END:DAYLIGHT
BEGIN:STANDARD
TZOFFSETFROM:+0200
TZOFFSETTO:+0100
TZNAME:CET
DTSTART:20251026T010000
END:STANDARD
END:VTIMEZONE
BEGIN:VEVENT
DTSTART;VALUE=DATE:20240115
DTEND;VALUE=DATE:20240129
DTSTAMP:20260424T123430
CREATED:20230826T101059Z
LAST-MODIFIED:20230930T153320Z
UID:5073-1705276800-1706486399@sane.cz
SUMMARY:IV. YOG  2024 Gangwon
DESCRIPTION:
URL:https://sane.cz/event/iv-yog-2024-gangwon/
LOCATION:Gangwon\, Jižní Korea
CATEGORIES:Mladší junioři - UD
END:VEVENT
BEGIN:VEVENT
DTSTART;VALUE=DATE:20240102
DTEND;VALUE=DATE:20240107
DTSTAMP:20260424T123430
CREATED:20230930T154652Z
LAST-MODIFIED:20230930T154652Z
UID:5157-1704153600-1704585599@sane.cz
SUMMARY:5. Continental Cup – mladší junioři – umělé dráhy
DESCRIPTION:
URL:https://sane.cz/event/5-continental-cup-mladsi-juniori-umele-drahy/
LOCATION:Bludenz\, Bludenz\, Rakousko
CATEGORIES:Mladší junioři - UD
END:VEVENT
BEGIN:VEVENT
DTSTART;VALUE=DATE:20231212
DTEND;VALUE=DATE:20231220
DTSTAMP:20260424T123430
CREATED:20230826T100742Z
LAST-MODIFIED:20230930T154211Z
UID:5065-1702339200-1703030399@sane.cz
SUMMARY:ITW Bludenz – mladší junioři – umělé dráhy
DESCRIPTION:
URL:https://sane.cz/event/itw-bludenz-juniori-umele-drahy/
LOCATION:Bludenz\, Bludenz\, Rakousko
CATEGORIES:Mladší junioři - UD
END:VEVENT
BEGIN:VEVENT
DTSTART;VALUE=DATE:20231204
DTEND;VALUE=DATE:20231211
DTSTAMP:20260424T123430
CREATED:20230930T154609Z
LAST-MODIFIED:20230930T154609Z
UID:5155-1701648000-1702252799@sane.cz
SUMMARY:3. a 4. Continental Cup – mladší junioři – umělé dráhy
DESCRIPTION:
URL:https://sane.cz/event/3-a-4-continental-cup-mladsi-juniori-umele-drahy/
LOCATION:Oberhof\, Oberhof\, Německo
CATEGORIES:Mladší junioři - UD
END:VEVENT
BEGIN:VEVENT
DTSTART;VALUE=DATE:20231127
DTEND;VALUE=DATE:20231203
DTSTAMP:20260424T123430
CREATED:20230930T154530Z
LAST-MODIFIED:20230930T154530Z
UID:5153-1701043200-1701561599@sane.cz
SUMMARY:1. a 2. Continental Cup – mladší junioři – umělé dráhy
DESCRIPTION:
URL:https://sane.cz/event/1-a-2-continental-cup-mladsi-juniori-umele-drahy/
LOCATION:Winterberg\, Winterberg\, Německo
CATEGORIES:Mladší junioři - UD
END:VEVENT
BEGIN:VEVENT
DTSTART;VALUE=DATE:20231121
DTEND;VALUE=DATE:20231127
DTSTAMP:20260424T123430
CREATED:20230930T154430Z
LAST-MODIFIED:20230930T154430Z
UID:5151-1700524800-1701043199@sane.cz
SUMMARY:ITW Oberhof – mladší junioři – umělé dráhy
DESCRIPTION:
URL:https://sane.cz/event/itw-oberhof-mladsi-juniori-umele-drahy-2/
LOCATION:Oberhof\, Oberhof\, Německo
CATEGORIES:Mladší junioři - UD
END:VEVENT
BEGIN:VEVENT
DTSTART;VALUE=DATE:20231113
DTEND;VALUE=DATE:20231117
DTSTAMP:20260424T123430
CREATED:20230930T154343Z
LAST-MODIFIED:20230930T154343Z
UID:5148-1699833600-1700179199@sane.cz
SUMMARY:ITW Kästle – mladší junioři – umělé dráhy
DESCRIPTION:
URL:https://sane.cz/event/itw-kastle-mladsi-juniori-umele-drahy/
LOCATION:Innsbruck\, Innsbruck\, Rakousko
CATEGORIES:Mladší junioři - UD
END:VEVENT
BEGIN:VEVENT
DTSTART;VALUE=DATE:20231030
DTEND;VALUE=DATE:20231106
DTSTAMP:20260424T123430
CREATED:20230930T154039Z
LAST-MODIFIED:20230930T154039Z
UID:5146-1698624000-1699228799@sane.cz
SUMMARY:ITW Oberhof – mladší junioři – umělé dráhy
DESCRIPTION:
URL:https://sane.cz/event/itw-oberhof-mladsi-juniori-umele-drahy/
LOCATION:Oberhof\, Oberhof\, Německo
CATEGORIES:Mladší junioři - UD
END:VEVENT
BEGIN:VEVENT
DTSTART;VALUE=DATE:20231019
DTEND;VALUE=DATE:20231028
DTSTAMP:20260424T123430
CREATED:20230930T153932Z
LAST-MODIFIED:20230930T153932Z
UID:5144-1697673600-1698451199@sane.cz
SUMMARY:ITW Sigulda – junioři a mladší junioři – umělé dráhy
DESCRIPTION:
URL:https://sane.cz/event/itw-sigulda-juniori-a-mladsi-juniori-umele-drahy/
LOCATION:Sigulda\, Sigulda\, Lotyšsko
CATEGORIES:Junioři - UD,Mladší junioři - UD
END:VEVENT
BEGIN:VEVENT
DTSTART;VALUE=DATE:20230114
DTEND;VALUE=DATE:20230116
DTSTAMP:20260424T123430
CREATED:20221104T211022Z
LAST-MODIFIED:20221104T211022Z
UID:3953-1673654400-1673827199@sane.cz
SUMMARY:38. mistrovství světa – mladší junioři\, junioři – umělé dráhy
DESCRIPTION:
URL:https://sane.cz/event/38-mistrovstvi-sveta-mladsi-juniori-juniori-umele-drahy/
LOCATION:Bludenz\, Bludenz\, Rakousko
CATEGORIES:Junioři - UD,Mladší junioři - UD
END:VEVENT
BEGIN:VEVENT
DTSTART;VALUE=DATE:20221216
DTEND;VALUE=DATE:20221218
DTSTAMP:20260424T123430
CREATED:20221104T210339Z
LAST-MODIFIED:20221202T162229Z
UID:3935-1671148800-1671321599@sane.cz
SUMMARY:2. kontinentální pohár – mladší junioři – umělé dráhy
DESCRIPTION:
URL:https://sane.cz/event/2-svetovy-pohar-mladsi-juniori-umele-drahy/
LOCATION:Bludenz\, Bludenz\, Rakousko
CATEGORIES:Mladší junioři - UD
END:VEVENT
BEGIN:VEVENT
DTSTART;VALUE=DATE:20221205
DTEND;VALUE=DATE:20221212
DTSTAMP:20260424T123430
CREATED:20221104T210100Z
LAST-MODIFIED:20221104T210100Z
UID:3926-1670198400-1670803199@sane.cz
SUMMARY:ITW Bludenz - mladší junioři - umělé dráhy
DESCRIPTION:
URL:https://sane.cz/event/itw-bludenz-mladsi-juniori-umele-drahy/
LOCATION:Bludenz\, Bludenz\, Rakousko
CATEGORIES:Mladší junioři - UD
END:VEVENT
BEGIN:VEVENT
DTSTART;VALUE=DATE:20221202
DTEND;VALUE=DATE:20221204
DTSTAMP:20260424T123430
CREATED:20221104T205842Z
LAST-MODIFIED:20221202T162216Z
UID:3918-1669939200-1670111999@sane.cz
SUMMARY:1. kontinentální pohár - mladší junioři - umělé dráhy
DESCRIPTION:
URL:https://sane.cz/event/1-svetovy-pohar-mladsi-juniori-umele-drahy/
LOCATION:Sigulda\, Sigulda\, Lotyšsko
CATEGORIES:Mladší junioři - UD
END:VEVENT
BEGIN:VEVENT
DTSTART;VALUE=DATE:20221123
DTEND;VALUE=DATE:20221128
DTSTAMP:20260424T123430
CREATED:20221104T205631Z
LAST-MODIFIED:20221104T205631Z
UID:3912-1669161600-1669593599@sane.cz
SUMMARY:ITW Sigulda - mladší junioři - umělé dráhy
DESCRIPTION:
URL:https://sane.cz/event/itw-sigulda-mladsi-juniori-umele-drahy/
LOCATION:Sigulda\, Sigulda\, Lotyšsko
CATEGORIES:Mladší junioři - UD
END:VEVENT
BEGIN:VEVENT
DTSTART;VALUE=DATE:20221115
DTEND;VALUE=DATE:20221121
DTSTAMP:20260424T123430
CREATED:20221104T205556Z
LAST-MODIFIED:20221104T205556Z
UID:3910-1668470400-1668988799@sane.cz
SUMMARY:ITW Altenberg - mladší junioři\, junioři\, dospělí - umělé dráhy
DESCRIPTION:
URL:https://sane.cz/event/itw-altenberg-mladsi-juniori-juniori-dospeli-umele-drahy/
LOCATION:Altenberg\, Altenberg\, Německo
CATEGORIES:Dospělí - UD,Junioři - UD,Mladší junioři - UD
END:VEVENT
BEGIN:VEVENT
DTSTART;VALUE=DATE:20221107
DTEND;VALUE=DATE:20221114
DTSTAMP:20260424T123430
CREATED:20221104T205440Z
LAST-MODIFIED:20221104T205507Z
UID:3907-1667779200-1668383999@sane.cz
SUMMARY:ITW Bludenz - mladší junioři\, junioři\, dospělí - umělé dráhy
DESCRIPTION:
URL:https://sane.cz/event/itw-bludenz-mladsi-juniori-juniori-dospeli-ud/
LOCATION:Bludenz\, Bludenz\, Rakousko
CATEGORIES:Dospělí - UD,Junioři - UD,Mladší junioři - UD
END:VEVENT
BEGIN:VEVENT
DTSTART;VALUE=DATE:20221031
DTEND;VALUE=DATE:20221107
DTSTAMP:20260424T123430
CREATED:20221104T205151Z
LAST-MODIFIED:20221104T205352Z
UID:3902-1667174400-1667779199@sane.cz
SUMMARY:ITW Innsbruck - dospělí\, junioři\, mladší junioři - UD
DESCRIPTION:
URL:https://sane.cz/event/itw-innsbruck-dospeli-juniori-mladsi-juniori/
LOCATION:Innsbruck\, Innsbruck\, Rakousko
CATEGORIES:Dospělí - UD,Junioři - UD,Mladší junioři - UD
END:VEVENT
END:VCALENDAR