BEGIN:VCALENDAR
VERSION:2.0
PRODID:-//Českomoravská sáňkařská asociace - ECPv6.15.13//NONSGML v1.0//EN
CALSCALE:GREGORIAN
METHOD:PUBLISH
X-WR-CALNAME:Českomoravská sáňkařská asociace
X-ORIGINAL-URL:https://sane.cz
X-WR-CALDESC:Akce na Českomoravská sáňkařská asociace
REFRESH-INTERVAL;VALUE=DURATION:PT1H
X-Robots-Tag:noindex
X-PUBLISHED-TTL:PT1H
BEGIN:VTIMEZONE
TZID:Europe/Prague
BEGIN:DAYLIGHT
TZOFFSETFROM:+0100
TZOFFSETTO:+0200
TZNAME:CEST
DTSTART:20220327T010000
END:DAYLIGHT
BEGIN:STANDARD
TZOFFSETFROM:+0200
TZOFFSETTO:+0100
TZNAME:CET
DTSTART:20221030T010000
END:STANDARD
BEGIN:DAYLIGHT
TZOFFSETFROM:+0100
TZOFFSETTO:+0200
TZNAME:CEST
DTSTART:20230326T010000
END:DAYLIGHT
BEGIN:STANDARD
TZOFFSETFROM:+0200
TZOFFSETTO:+0100
TZNAME:CET
DTSTART:20231029T010000
END:STANDARD
BEGIN:DAYLIGHT
TZOFFSETFROM:+0100
TZOFFSETTO:+0200
TZNAME:CEST
DTSTART:20240331T010000
END:DAYLIGHT
BEGIN:STANDARD
TZOFFSETFROM:+0200
TZOFFSETTO:+0100
TZNAME:CET
DTSTART:20241027T010000
END:STANDARD
BEGIN:DAYLIGHT
TZOFFSETFROM:+0100
TZOFFSETTO:+0200
TZNAME:CEST
DTSTART:20250330T010000
END:DAYLIGHT
BEGIN:STANDARD
TZOFFSETFROM:+0200
TZOFFSETTO:+0100
TZNAME:CET
DTSTART:20251026T010000
END:STANDARD
BEGIN:DAYLIGHT
TZOFFSETFROM:+0100
TZOFFSETTO:+0200
TZNAME:CEST
DTSTART:20260329T010000
END:DAYLIGHT
BEGIN:STANDARD
TZOFFSETFROM:+0200
TZOFFSETTO:+0100
TZNAME:CET
DTSTART:20261025T010000
END:STANDARD
BEGIN:DAYLIGHT
TZOFFSETFROM:+0100
TZOFFSETTO:+0200
TZNAME:CEST
DTSTART:20270328T010000
END:DAYLIGHT
BEGIN:STANDARD
TZOFFSETFROM:+0200
TZOFFSETTO:+0100
TZNAME:CET
DTSTART:20271031T010000
END:STANDARD
END:VTIMEZONE
BEGIN:VEVENT
DTSTART;VALUE=DATE:20260131
DTEND;VALUE=DATE:20260202
DTSTAMP:20260422T192402
CREATED:20250615T165527Z
LAST-MODIFIED:20250615T165527Z
UID:6820-1769817600-1769990399@sane.cz
SUMMARY:Mezinárodní MČR umělých drah
DESCRIPTION:
URL:https://sane.cz/event/mezinarodni-mcr-umelych-drah/
LOCATION:Smržovka\, Smržovka\, Česká republika
CATEGORIES:Dospělí - UD,Junioři - UD,Mladší junioři - UD
END:VEVENT
BEGIN:VEVENT
DTSTART;VALUE=DATE:20260124
DTEND;VALUE=DATE:20260126
DTSTAMP:20260422T192402
CREATED:20250615T165506Z
LAST-MODIFIED:20250615T165506Z
UID:6817-1769212800-1769385599@sane.cz
SUMMARY:Pohár starosty města Smržovky
DESCRIPTION:
URL:https://sane.cz/event/pohar-starosty-mesta-smrzovky/
LOCATION:Smržovka\, Smržovka\, Česká republika
CATEGORIES:Dospělí - UD,Junioři - UD,Mladší junioři - UD
END:VEVENT
BEGIN:VEVENT
DTSTART;VALUE=DATE:20260117
DTEND;VALUE=DATE:20260119
DTSTAMP:20260422T192402
CREATED:20250615T165445Z
LAST-MODIFIED:20250615T165445Z
UID:6815-1768608000-1768780799@sane.cz
SUMMARY:Memoriál Miloslava Beldy
DESCRIPTION:
URL:https://sane.cz/event/memorial-miloslava-beldy/
LOCATION:Smržovka\, Smržovka\, Česká republika
CATEGORIES:Dospělí - UD,Junioři - UD,Mladší junioři - UD
END:VEVENT
BEGIN:VEVENT
DTSTART;VALUE=DATE:20260110
DTEND;VALUE=DATE:20260112
DTSTAMP:20260422T192402
CREATED:20250615T165419Z
LAST-MODIFIED:20250615T165419Z
UID:6813-1768003200-1768175999@sane.cz
SUMMARY:Ledová stopa Smržovky
DESCRIPTION:
URL:https://sane.cz/event/ledova-stopa-smrzovky/
LOCATION:Smržovka\, Smržovka\, Česká republika
CATEGORIES:Dospělí - UD,Junioři - UD,Mladší junioři - UD
END:VEVENT
BEGIN:VEVENT
DTSTART;VALUE=DATE:20250906
DTEND;VALUE=DATE:20250908
DTSTAMP:20260422T192402
CREATED:20250615T165348Z
LAST-MODIFIED:20250615T165348Z
UID:6811-1757116800-1757289599@sane.cz
SUMMARY:Mezinárodní MČR umělých drah na kolečkách
DESCRIPTION:
URL:https://sane.cz/event/mezinarodni-mcr-umelych-drah-na-koleckach/
LOCATION:Smržovka\, Smržovka\, Česká republika
CATEGORIES:Dospělí - UD,Junioři - UD,Mladší junioři - UD
END:VEVENT
BEGIN:VEVENT
DTSTART;VALUE=DATE:20250905
DTEND;VALUE=DATE:20250907
DTSTAMP:20260422T192402
CREATED:20250601T171903Z
LAST-MODIFIED:20250601T171903Z
UID:6720-1757030400-1757203199@sane.cz
SUMMARY:Mistrovství České republiky na kolečkových saních
DESCRIPTION:
URL:https://sane.cz/event/mistrovstvi-ceske-republiky-na-koleckovych-sanich/
LOCATION:Smržovka\, Smržovka\, Česká republika
CATEGORIES:Dospělí - UD,Junioři - UD,Mladší junioři - UD
END:VEVENT
BEGIN:VEVENT
DTSTART;VALUE=DATE:20250830
DTEND;VALUE=DATE:20250901
DTSTAMP:20260422T192402
CREATED:20250615T165324Z
LAST-MODIFIED:20250615T165324Z
UID:6809-1756512000-1756684799@sane.cz
SUMMARY:Pohár starosty města Smržovky (kolečka)
DESCRIPTION:
URL:https://sane.cz/event/pohar-starosty-mesta-smrzovky-kolecka/
LOCATION:Smržovka\, Smržovka\, Česká republika
CATEGORIES:Junioři - UD,Mladší junioři - UD
END:VEVENT
BEGIN:VEVENT
DTSTART;VALUE=DATE:20250823
DTEND;VALUE=DATE:20250825
DTSTAMP:20260422T192402
CREATED:20250615T165251Z
LAST-MODIFIED:20250615T165251Z
UID:6807-1755907200-1756079999@sane.cz
SUMMARY:Oddílový závod Podkrušnohorští sáňkaři
DESCRIPTION:
URL:https://sane.cz/event/oddilovy-zavod-podkrusnohorsti-sankari/
LOCATION:Klášterec nad Ohří\, Česká republika
CATEGORIES:Junioři - UD,Mladší junioři - UD
END:VEVENT
BEGIN:VEVENT
DTSTART;VALUE=DATE:20250813
DTEND;VALUE=DATE:20250817
DTSTAMP:20260422T192402
CREATED:20250615T165148Z
LAST-MODIFIED:20250615T165148Z
UID:6802-1755043200-1755388799@sane.cz
SUMMARY:VT Ilmenau – dospělí\, junioři
DESCRIPTION:
URL:https://sane.cz/event/vt-ilmenau-dospeli-juniori/
LOCATION:Ilmenau\, Germany
CATEGORIES:Dospělí - UD,Junioři - UD,Mladší junioři - UD
END:VEVENT
BEGIN:VEVENT
DTSTART;VALUE=DATE:20250803
DTEND;VALUE=DATE:20250809
DTSTAMP:20260422T192402
CREATED:20250615T165045Z
LAST-MODIFIED:20250615T165045Z
UID:6800-1754179200-1754697599@sane.cz
SUMMARY:VT mládeže na Smržovce (Podkrušnohorští sáňkaři)
DESCRIPTION:
URL:https://sane.cz/event/vt-mladeze-na-smrzovce-podkrusnohorsti-sankari/
LOCATION:Smržovka\, Smržovka\, Česká republika
CATEGORIES:Junioři - UD,Mladší junioři - UD
END:VEVENT
BEGIN:VEVENT
DTSTART;VALUE=DATE:20250731
DTEND;VALUE=DATE:20250804
DTSTAMP:20260422T192402
CREATED:20250615T165004Z
LAST-MODIFIED:20250615T165004Z
UID:6798-1753920000-1754265599@sane.cz
SUMMARY:VT Klášterec – mládež\, junioři\, dospělí
DESCRIPTION:
URL:https://sane.cz/event/vt-klasterec-mladez-juniori-dospeli/
LOCATION:Klášterec nad Ohří\, Česká republika
CATEGORIES:Dospělí - UD,Junioři - UD,Mladší junioři - UD
END:VEVENT
BEGIN:VEVENT
DTSTART;VALUE=DATE:20250226
DTEND;VALUE=DATE:20250305
DTSTAMP:20260422T192402
CREATED:20241011T011935Z
LAST-MODIFIED:20250226T130217Z
UID:5718-1740528000-1741132799@sane.cz
SUMMARY:Mistrovství Evropy & 5. + 6. světový pohár – junioři – umělé dráhy
DESCRIPTION:
URL:https://sane.cz/event/5-6-svetovy-pohar-juniori-umele-drahy/
LOCATION:Sigulda\, Sigulda\, Lotyšsko
CATEGORIES:Junioři - UD,Mladší junioři - UD
END:VEVENT
BEGIN:VEVENT
DTSTART;VALUE=DATE:20250221
DTEND;VALUE=DATE:20250223
DTSTAMP:20260422T192402
CREATED:20241011T005002Z
LAST-MODIFIED:20241011T005601Z
UID:5666-1740096000-1740268799@sane.cz
SUMMARY:Otevřený Přebor TJ Baník – junioři\, dospělí
DESCRIPTION:
URL:https://sane.cz/event/otevreny-prebor-tj-banik-juniori-dospeli/
LOCATION:Oberhof\, Oberhof\, Německo
CATEGORIES:Dospělí - UD,Junioři - UD,Mladší junioři - UD
END:VEVENT
BEGIN:VEVENT
DTSTART;VALUE=DATE:20250219
DTEND;VALUE=DATE:20250224
DTSTAMP:20260422T192402
CREATED:20241011T011847Z
LAST-MODIFIED:20241011T011847Z
UID:5716-1739923200-1740355199@sane.cz
SUMMARY:ITW Sigulda – junioři – umělé dráhy
DESCRIPTION:
URL:https://sane.cz/event/itw-sigulda-juniori-umele-drahy-2/
LOCATION:Sigulda\, Sigulda\, Lotyšsko
CATEGORIES:Junioři - UD,Mladší junioři - UD
END:VEVENT
BEGIN:VEVENT
DTSTART;VALUE=DATE:20250215
DTEND;VALUE=DATE:20250217
DTSTAMP:20260422T192402
CREATED:20241011T004924Z
LAST-MODIFIED:20241011T005620Z
UID:5664-1739577600-1739750399@sane.cz
SUMMARY:Memoriál Luboše Páska\, jednotlivci – junioři\, dospělí
DESCRIPTION:
URL:https://sane.cz/event/memorial-lubose-paska-jednotlivci-juniori-dospeli/
LOCATION:Winterberg\, Winterberg\, Německo
CATEGORIES:Dospělí - UD,Junioři - UD,Mladší junioři - UD
END:VEVENT
BEGIN:VEVENT
DTSTART;VALUE=DATE:20250210
DTEND;VALUE=DATE:20250216
DTSTAMP:20260422T192402
CREATED:20241011T011812Z
LAST-MODIFIED:20241011T011812Z
UID:5714-1739145600-1739663999@sane.cz
SUMMARY:4. světový pohár – junioři – umělé dráhy
DESCRIPTION:
URL:https://sane.cz/event/4-svetovy-pohar-juniori-umele-drahy-3/
LOCATION:Oberhof\, Oberhof\, Německo
CATEGORIES:Junioři - UD,Mladší junioři - UD
END:VEVENT
BEGIN:VEVENT
DTSTART;VALUE=DATE:20250127
DTEND;VALUE=DATE:20250203
DTSTAMP:20260422T192402
CREATED:20241011T011345Z
LAST-MODIFIED:20241011T011345Z
UID:5712-1737936000-1738540799@sane.cz
SUMMARY:Mistrovství světa – junioři – umělé dráhy
DESCRIPTION:
URL:https://sane.cz/event/mistrovstvi-sveta-juniori-umele-drahy/
LOCATION:St. Moritz Celerina\, St. Moritz Celerina\, Švýcarsko
CATEGORIES:Junioři - UD,Mladší junioři - UD
END:VEVENT
BEGIN:VEVENT
DTSTART;VALUE=DATE:20241229
DTEND;VALUE=DATE:20241230
DTSTAMP:20260422T192402
CREATED:20241011T004736Z
LAST-MODIFIED:20241228T144221Z
UID:5660-1735430400-1735516799@sane.cz
SUMMARY:MČR v Altenbergu – umělé dráhy\, žáci\, junioři\, dospělí
DESCRIPTION:
URL:https://sane.cz/event/mcr-v-altenbergu-umele-drahy-zaci-juniori-dospeli/
LOCATION:Altenberg\, Altenberg\, Německo
CATEGORIES:Dospělí - UD,Junioři - UD,Mladší junioři - UD
END:VEVENT
BEGIN:VEVENT
DTSTART;VALUE=DATE:20241227
DTEND;VALUE=DATE:20241229
DTSTAMP:20260422T192402
CREATED:20241011T004703Z
LAST-MODIFIED:20241011T005741Z
UID:5658-1735257600-1735430399@sane.cz
SUMMARY:Mistrovství Moravy a Slezska – junioři\, dospělí
DESCRIPTION:
URL:https://sane.cz/event/mistrovstvi-moravy-a-slezska-juniori-dospeli/
LOCATION:Altenberg\, Altenberg\, Německo
CATEGORIES:Dospělí - UD,Junioři - UD,Mladší junioři - UD
END:VEVENT
BEGIN:VEVENT
DTSTART;VALUE=DATE:20241216
DTEND;VALUE=DATE:20241222
DTSTAMP:20260422T192402
CREATED:20241011T011302Z
LAST-MODIFIED:20241011T011302Z
UID:5710-1734307200-1734825599@sane.cz
SUMMARY:3. světový pohár – junioři – umělé dráhy
DESCRIPTION:
URL:https://sane.cz/event/3-svetovy-pohar-juniori-umele-drahy-2/
LOCATION:Winterberg\, Winterberg\, Německo
CATEGORIES:Junioři - UD,Mladší junioři - UD
END:VEVENT
BEGIN:VEVENT
DTSTART;VALUE=DATE:20241212
DTEND;VALUE=DATE:20241216
DTSTAMP:20260422T192402
CREATED:20241011T011230Z
LAST-MODIFIED:20241011T011230Z
UID:5708-1733961600-1734307199@sane.cz
SUMMARY:ITW Winterberg – junioři – umělé dráhy
DESCRIPTION:
URL:https://sane.cz/event/itw-winterberg-juniori-umele-drahy/
LOCATION:Winterberg\, Winterberg\, Německo
CATEGORIES:Junioři - UD,Mladší junioři - UD
END:VEVENT
BEGIN:VEVENT
DTSTART;VALUE=DATE:20241203
DTEND;VALUE=DATE:20241208
DTSTAMP:20260422T192402
CREATED:20241011T011148Z
LAST-MODIFIED:20241011T011148Z
UID:5706-1733184000-1733615999@sane.cz
SUMMARY:1. + 2. světový pohár – junioři – umělé dráhy
DESCRIPTION:
URL:https://sane.cz/event/1-2-svetovy-pohar-juniori-umele-drahy/
LOCATION:La Plagne\, France
CATEGORIES:Junioři - UD,Mladší junioři - UD
END:VEVENT
BEGIN:VEVENT
DTSTART;VALUE=DATE:20241126
DTEND;VALUE=DATE:20241202
DTSTAMP:20260422T192402
CREATED:20241011T011103Z
LAST-MODIFIED:20241011T011103Z
UID:5703-1732579200-1733097599@sane.cz
SUMMARY:ITW La Plagne – junioři – umělé dráhy
DESCRIPTION:
URL:https://sane.cz/event/itw-la-plagne-juniori-umele-drahy/
LOCATION:La Plagne\, France
CATEGORIES:Junioři - UD,Mladší junioři - UD
END:VEVENT
BEGIN:VEVENT
DTSTART;VALUE=DATE:20241104
DTEND;VALUE=DATE:20241118
DTSTAMP:20260422T192402
CREATED:20241011T010926Z
LAST-MODIFIED:20241011T010939Z
UID:5701-1730678400-1731887999@sane.cz
SUMMARY:ITW Sigulda – junioři – umělé dráhy
DESCRIPTION:
URL:https://sane.cz/event/itw-sigulda-juniori-umele-drahy/
LOCATION:Sigulda\, Sigulda\, Lotyšsko
CATEGORIES:Junioři - UD,Mladší junioři - UD
END:VEVENT
BEGIN:VEVENT
DTSTART;VALUE=DATE:20240115
DTEND;VALUE=DATE:20240129
DTSTAMP:20260422T192402
CREATED:20230826T101059Z
LAST-MODIFIED:20230930T153320Z
UID:5073-1705276800-1706486399@sane.cz
SUMMARY:IV. YOG  2024 Gangwon
DESCRIPTION:
URL:https://sane.cz/event/iv-yog-2024-gangwon/
LOCATION:Gangwon\, Jižní Korea
CATEGORIES:Mladší junioři - UD
END:VEVENT
BEGIN:VEVENT
DTSTART;VALUE=DATE:20240102
DTEND;VALUE=DATE:20240107
DTSTAMP:20260422T192402
CREATED:20230930T154652Z
LAST-MODIFIED:20230930T154652Z
UID:5157-1704153600-1704585599@sane.cz
SUMMARY:5. Continental Cup – mladší junioři – umělé dráhy
DESCRIPTION:
URL:https://sane.cz/event/5-continental-cup-mladsi-juniori-umele-drahy/
LOCATION:Bludenz\, Bludenz\, Rakousko
CATEGORIES:Mladší junioři - UD
END:VEVENT
BEGIN:VEVENT
DTSTART;VALUE=DATE:20231212
DTEND;VALUE=DATE:20231220
DTSTAMP:20260422T192402
CREATED:20230826T100742Z
LAST-MODIFIED:20230930T154211Z
UID:5065-1702339200-1703030399@sane.cz
SUMMARY:ITW Bludenz – mladší junioři – umělé dráhy
DESCRIPTION:
URL:https://sane.cz/event/itw-bludenz-juniori-umele-drahy/
LOCATION:Bludenz\, Bludenz\, Rakousko
CATEGORIES:Mladší junioři - UD
END:VEVENT
BEGIN:VEVENT
DTSTART;VALUE=DATE:20231204
DTEND;VALUE=DATE:20231211
DTSTAMP:20260422T192402
CREATED:20230930T154609Z
LAST-MODIFIED:20230930T154609Z
UID:5155-1701648000-1702252799@sane.cz
SUMMARY:3. a 4. Continental Cup – mladší junioři – umělé dráhy
DESCRIPTION:
URL:https://sane.cz/event/3-a-4-continental-cup-mladsi-juniori-umele-drahy/
LOCATION:Oberhof\, Oberhof\, Německo
CATEGORIES:Mladší junioři - UD
END:VEVENT
BEGIN:VEVENT
DTSTART;VALUE=DATE:20231127
DTEND;VALUE=DATE:20231203
DTSTAMP:20260422T192402
CREATED:20230930T154530Z
LAST-MODIFIED:20230930T154530Z
UID:5153-1701043200-1701561599@sane.cz
SUMMARY:1. a 2. Continental Cup – mladší junioři – umělé dráhy
DESCRIPTION:
URL:https://sane.cz/event/1-a-2-continental-cup-mladsi-juniori-umele-drahy/
LOCATION:Winterberg\, Winterberg\, Německo
CATEGORIES:Mladší junioři - UD
END:VEVENT
BEGIN:VEVENT
DTSTART;VALUE=DATE:20231121
DTEND;VALUE=DATE:20231127
DTSTAMP:20260422T192402
CREATED:20230930T154430Z
LAST-MODIFIED:20230930T154430Z
UID:5151-1700524800-1701043199@sane.cz
SUMMARY:ITW Oberhof – mladší junioři – umělé dráhy
DESCRIPTION:
URL:https://sane.cz/event/itw-oberhof-mladsi-juniori-umele-drahy-2/
LOCATION:Oberhof\, Oberhof\, Německo
CATEGORIES:Mladší junioři - UD
END:VEVENT
END:VCALENDAR